BEGIN:VCALENDAR
VERSION:2.0
PRODID:-//Cristy B Comedy Club - ECPv6.15.20//NONSGML v1.0//EN
CALSCALE:GREGORIAN
METHOD:PUBLISH
X-WR-CALNAME:Cristy B Comedy Club
X-ORIGINAL-URL:https://cristybcomedy.com
X-WR-CALDESC:Events for Cristy B Comedy Club
REFRESH-INTERVAL;VALUE=DURATION:PT1H
X-Robots-Tag:noindex
X-PUBLISHED-TTL:PT1H
BEGIN:VTIMEZONE
TZID:UTC
BEGIN:STANDARD
TZOFFSETFROM:+0000
TZOFFSETTO:+0000
TZNAME:UTC
DTSTART:20230101T000000
END:STANDARD
END:VTIMEZONE
BEGIN:VEVENT
DTSTART;TZID=UTC:20240818T200000
DTEND;TZID=UTC:20240818T213000
DTSTAMP:20260424T140023
CREATED:20240731T204235Z
LAST-MODIFIED:20240808T222915Z
UID:508-1724011200-1724016600@cristybcomedy.com
SUMMARY:Comedy Class Graduation
DESCRIPTION:Graduation Show\nCome celebrate the end of an era at our Graduation Show! Join us at the Cristy B Comedy Club for a night of laughter and memories as we send off our graduates in style. It’s a special evening filled with jokes\, stories\, and plenty of surprises. Don’t miss out on this in-person event that promises to be a night to remember. Grab your tickets now! \n[vcex_button url=”https://www.eventbrite.com/o/cristy-b-comedy-29424130151″ title=”Visit Site” style=”flat” align=”center” color=”black” size=”large” target=”self” rel=”none”]Buy Tickets[/vcex_button]
URL:https://cristybcomedy.com/event/comedy-class-graduation/
LOCATION:Cristy B Comedy Club Palm Coast\, 160 Cypress Point Parkway #STE A110\, Palm Coast\, FL\, 32164\, United States
CATEGORIES:Comedy,Comedy Night
ORGANIZER;CN="Cristy B Comedy":MAILTO:thecbcclub@gmail.com
END:VEVENT
END:VCALENDAR