BEGIN:VCALENDAR
VERSION:2.0
PRODID:-//Cristy B Comedy Club - ECPv6.15.20//NONSGML v1.0//EN
CALSCALE:GREGORIAN
METHOD:PUBLISH
X-WR-CALNAME:Cristy B Comedy Club
X-ORIGINAL-URL:https://cristybcomedy.com
X-WR-CALDESC:Events for Cristy B Comedy Club
REFRESH-INTERVAL;VALUE=DURATION:PT1H
X-Robots-Tag:noindex
X-PUBLISHED-TTL:PT1H
BEGIN:VTIMEZONE
TZID:UTC
BEGIN:STANDARD
TZOFFSETFROM:+0000
TZOFFSETTO:+0000
TZNAME:UTC
DTSTART:20230101T000000
END:STANDARD
END:VTIMEZONE
BEGIN:VEVENT
DTSTART;TZID=UTC:20240718T190000
DTEND;TZID=UTC:20240718T203000
DTSTAMP:20260424T135832
CREATED:20240718T012041Z
LAST-MODIFIED:20240718T012507Z
UID:472-1721329200-1721334600@cristybcomedy.com
SUMMARY:Devin Siebold
DESCRIPTION:Devin Siebold is a comedy force to be reckoned with. Devin has been named 2015 iHeartMedia Monster’s in the Morning Comedian of the Year and won the Boston World Series of Comedy\, appeared on Laughs on FOX\, won Side Splitters Comedian of the Year 2014. His viral teacher sketches have garnered over 700 million views and he currently headlines sold out teacher comedy tours across the US. \n[vcex_button url=”https://www.eventbrite.com/o/cristy-b-comedy-29424130151″ title=”Visit Site” style=”flat” align=”center” color=”black” size=”large” target=”self” rel=”none”]Buy Tickets[/vcex_button]
URL:https://cristybcomedy.com/event/devin-siebold/
LOCATION:Cristy B Comedy Club Palm Coast\, 160 Cypress Point Parkway #STE A110\, Palm Coast\, FL\, 32164\, United States
CATEGORIES:Comedy,Comedy Night
ATTACH;FMTTYPE=image/jpeg:https://cristybcomedy.com/wp-content/uploads/2024/07/channels4_profile-2.jpg
ORGANIZER;CN="Cristy B Comedy":MAILTO:thecbcclub@gmail.com
END:VEVENT
END:VCALENDAR