BEGIN:VCALENDAR
VERSION:2.0
PRODID:-//Cristy B Comedy Club - ECPv6.15.20//NONSGML v1.0//EN
CALSCALE:GREGORIAN
METHOD:PUBLISH
X-WR-CALNAME:Cristy B Comedy Club
X-ORIGINAL-URL:https://cristybcomedy.com
X-WR-CALDESC:Events for Cristy B Comedy Club
REFRESH-INTERVAL;VALUE=DURATION:PT1H
X-Robots-Tag:noindex
X-PUBLISHED-TTL:PT1H
BEGIN:VTIMEZONE
TZID:UTC
BEGIN:STANDARD
TZOFFSETFROM:+0000
TZOFFSETTO:+0000
TZNAME:UTC
DTSTART:20250101T000000
END:STANDARD
END:VTIMEZONE
BEGIN:VEVENT
DTSTART;TZID=UTC:20260529T190000
DTEND;TZID=UTC:20260529T203000
DTSTAMP:20260424T090527
CREATED:20260417T171508Z
LAST-MODIFIED:20260417T171508Z
UID:3710-1780081200-1780086600@cristybcomedy.com
SUMMARY:I Love The 80's To Death- Murder Mystery Show
DESCRIPTION:Showtime: 7:00 PM \nI Love the 80’s to Death\nA Rockin’ Radical Night of Mystery\nIt’s the 80’s again\, and all of the big names are here for a big concert. Tensions run rampant as backstage secrets spill out into the spotlight with like\, totally tragic results!\nThis isn’t an episode of Miami Vice! This is like…murder. It’s up to you to bust it like a ghost\, for sure! Peg your jeans\, slouch your socks\, flash some neon\, put on way too much eyeliner and get that hair up! You are going to solve this crime in style.\nNo time to be Too Shy! You are a Smooth Operator\, and you know to listen to those Careless Whispers. It’s time to put on your Sunglasses at Night and Relax.\nTime after time…You will solve the case.
URL:https://cristybcomedy.com/event/https-tickets-bestofdaytona-com-events-i-love-the-80s-to-death-murder-mystery-show-5-29-2026/
LOCATION:Cristy B Comedy Club Daytona\, 242 S. Beach St. Suite 100\, Daytona Beach\, FL\, 32114\, United States
CATEGORIES:Comedy,Comedy Night
ATTACH;FMTTYPE=image/png:https://cristybcomedy.com/wp-content/uploads/2026/04/80sEV.png
ORGANIZER;CN="Cristy B Comedy":MAILTO:thecbcclub@gmail.com
END:VEVENT
END:VCALENDAR