BEGIN:VCALENDAR
VERSION:2.0
PRODID:-//Cristy B Comedy Club - ECPv6.15.20//NONSGML v1.0//EN
CALSCALE:GREGORIAN
METHOD:PUBLISH
X-WR-CALNAME:Cristy B Comedy Club
X-ORIGINAL-URL:https://cristybcomedy.com
X-WR-CALDESC:Events for Cristy B Comedy Club
REFRESH-INTERVAL;VALUE=DURATION:PT1H
X-Robots-Tag:noindex
X-PUBLISHED-TTL:PT1H
BEGIN:VTIMEZONE
TZID:UTC
BEGIN:STANDARD
TZOFFSETFROM:+0000
TZOFFSETTO:+0000
TZNAME:UTC
DTSTART:20230101T000000
END:STANDARD
END:VTIMEZONE
BEGIN:VEVENT
DTSTART;TZID=UTC:20240403T180000
DTEND;TZID=UTC:20240403T210000
DTSTAMP:20260424T155643
CREATED:20240317T183023Z
LAST-MODIFIED:20240317T183046Z
UID:238-1712167200-1712178000@cristybcomedy.com
SUMMARY:I "Crave" Comedy Show
DESCRIPTION:Join us for a hilarious evening of laughter at Crave’s Coastal Kitchen & Cocktails in Flagler Beach\, FL. Get ready to have your funny bone tickled by talented comedians from around the country. This in-person event promises to bring tears of joy and non-stop giggles. So gather your friends and prepare for a night of side-splitting entertainment. Don’t miss out on this unforgettable comedy extravaganza!
URL:https://cristybcomedy.com/event/i-crave-comedy-show/
LOCATION:Crave’s Coastal Kitchen and Cocktails\, 2000 South Oceanshore Boulevard\, Palm Coast\, 32136\, United States
ATTACH;FMTTYPE=image/jpeg:https://cristybcomedy.com/wp-content/uploads/2024/03/thumbnail_IMG_9547.jpg
ORGANIZER;CN="Cristy B Comedy":MAILTO:thecbcclub@gmail.com
END:VEVENT
END:VCALENDAR