BEGIN:VCALENDAR
VERSION:2.0
PRODID:-//Cristy B Comedy Club - ECPv6.15.20//NONSGML v1.0//EN
CALSCALE:GREGORIAN
METHOD:PUBLISH
X-WR-CALNAME:Cristy B Comedy Club
X-ORIGINAL-URL:https://cristybcomedy.com
X-WR-CALDESC:Events for Cristy B Comedy Club
REFRESH-INTERVAL;VALUE=DURATION:PT1H
X-Robots-Tag:noindex
X-PUBLISHED-TTL:PT1H
BEGIN:VTIMEZONE
TZID:UTC
BEGIN:STANDARD
TZOFFSETFROM:+0000
TZOFFSETTO:+0000
TZNAME:UTC
DTSTART:20230101T000000
END:STANDARD
END:VTIMEZONE
BEGIN:VEVENT
DTSTART;TZID=UTC:20240706T183000
DTEND;TZID=UTC:20240706T230000
DTSTAMP:20260424T140023
CREATED:20240628T135325Z
LAST-MODIFIED:20240628T135342Z
UID:454-1720290600-1720306800@cristybcomedy.com
SUMMARY:Nathan Wallace
DESCRIPTION:Early Show 6:30 PM \nLate Show 9PM \n[vcex_button url=”https://www.eventbrite.com/o/cristy-b-comedy-29424130151″ title=”Visit Site” style=”flat” align=”center” color=”black” size=”large” target=”self” rel=”none”]Buy Tickets[/vcex_button] \n  \nNathan Wallace comes fully armed with a wide smile and a wealth of material. Nathan interacts with the audience\, shares off-the-cuff insights and welcomes everyone into his world with plenty of honest energy. \nThis blue-collar dad has been Featured on Peacock and Circle tv \, the top 3 of the Florida’s Funniest Comedian contest\, winner of Off the Hook feature competition and can be seen featuring for the likes of Henry Cho\, Brian Regan\,Jon Lovitz and Bret Ernst \nNathan Wallace’s relatable yet farfetched material keeps comedy clubs\, churches\, corporate events\, laughing at his silly\, self-deprecating and charismatic comedy.
URL:https://cristybcomedy.com/event/nathan-wallace/
LOCATION:Cristy B Comedy Club Palm Coast\, 160 Cypress Point Parkway #STE A110\, Palm Coast\, FL\, 32164\, United States
CATEGORIES:Comedy,Comedy Night
ORGANIZER;CN="Cristy B Comedy":MAILTO:thecbcclub@gmail.com
END:VEVENT
END:VCALENDAR