BEGIN:VCALENDAR
VERSION:2.0
PRODID:-//Cristy B Comedy Club - ECPv6.15.20//NONSGML v1.0//EN
CALSCALE:GREGORIAN
METHOD:PUBLISH
X-WR-CALNAME:Cristy B Comedy Club
X-ORIGINAL-URL:https://cristybcomedy.com
X-WR-CALDESC:Events for Cristy B Comedy Club
REFRESH-INTERVAL;VALUE=DURATION:PT1H
X-Robots-Tag:noindex
X-PUBLISHED-TTL:PT1H
BEGIN:VTIMEZONE
TZID:UTC
BEGIN:STANDARD
TZOFFSETFROM:+0000
TZOFFSETTO:+0000
TZNAME:UTC
DTSTART:20230101T000000
END:STANDARD
END:VTIMEZONE
BEGIN:VEVENT
DTSTART;TZID=UTC:20240517T183000
DTEND;TZID=UTC:20240517T223000
DTSTAMP:20260424T153805
CREATED:20240511T123914Z
LAST-MODIFIED:20240511T123914Z
UID:389-1715970600-1715985000@cristybcomedy.com
SUMMARY:Paul Jensen
DESCRIPTION:Two Shows \nEarly Show 6:30pm/Late Show 9pm \n[vcex_button url=”https://www.eventbrite.com/o/cristy-b-comedy-29424130151″ title=”Visit Site” style=”flat” align=”center” color=”black” size=”large” target=”self” rel=”none”]Buy Tickets[/vcex_button]
URL:https://cristybcomedy.com/event/paul-jensen/
LOCATION:Cristy B Comedy Club Palm Coast\, 160 Cypress Point Parkway #STE A110\, Palm Coast\, FL\, 32164\, United States
CATEGORIES:Comedy Night
ATTACH;FMTTYPE=image/png:https://cristybcomedy.com/wp-content/uploads/2024/05/Screenshot-2024-05-11-at-8.38.14-AM.png
ORGANIZER;CN="Cristy B Comedy":MAILTO:thecbcclub@gmail.com
END:VEVENT
END:VCALENDAR