BEGIN:VCALENDAR
VERSION:2.0
PRODID:-//Cristy B Comedy Club - ECPv6.15.20//NONSGML v1.0//EN
CALSCALE:GREGORIAN
METHOD:PUBLISH
X-WR-CALNAME:Cristy B Comedy Club
X-ORIGINAL-URL:https://cristybcomedy.com
X-WR-CALDESC:Events for Cristy B Comedy Club
REFRESH-INTERVAL;VALUE=DURATION:PT1H
X-Robots-Tag:noindex
X-PUBLISHED-TTL:PT1H
BEGIN:VTIMEZONE
TZID:UTC
BEGIN:STANDARD
TZOFFSETFROM:+0000
TZOFFSETTO:+0000
TZNAME:UTC
DTSTART:20250101T000000
END:STANDARD
END:VTIMEZONE
BEGIN:VEVENT
DTSTART;TZID=UTC:20260212T190000
DTEND;TZID=UTC:20260212T203000
DTSTAMP:20260424T190913
CREATED:20260101T193315Z
LAST-MODIFIED:20260126T191010Z
UID:10000505-1770922800-1770928200@cristybcomedy.com
SUMMARY:Thursday Night Comedy with Joe Lemonds and Rob Ford
DESCRIPTION:Showtime 7:00 pm \nExperience Daytona’s new Comedy hotspot for a night of fun filled with laughter! \nJoe Lemonds is a Florida based\, Michigan born comedian known for his sardonic wit and affinity for malt liquor. He has shared the spotlight with notable comedians such as Brian Holtzman\, Jimmy Schubert\, Ric Diaz and Steve Simeone\, bringing his unique brand of comedy to audience members from all walks of life. Described as “delightfully unhinged”\, Joe’s unique perspective and storytelling brings a fresh perspective to the swamps of Florida. With an unforgettable comedic style and a passion for performance\, Joe continues to touch the hearts\, minds\, and livers of audiences around the nation. \nRob Ford is a rising star in the stand-up world\, known for turning life’s darkest corners into laugh-out-loud moments. With a razor-sharp wit and fearless stage presence\, he’s the guy you want on your lineup when you need honest comedy that still leaves the audience smiling. Having performed with Tony Rock\, Damon Williams\, and Kevin Farley\, he doesn’t just tell jokes; he invites you into a confessional where you can admit your weirdest thoughts and find out you’re not alone. Whether he’s riffing on awkward social norms or poking fun at humanity’s more questionable instincts\, Rob’s quick comebacks and genuine curiosity keep the energy electric.
URL:https://cristybcomedy.com/event/https-tickets-bestofdaytona-com-events-thursday-comedy-with-joe-lemonds-rob-ford-2-12-2026/
LOCATION:Cristy B Comedy Club Daytona\, 242 S. Beach St. Suite 100\, Daytona Beach\, FL\, 32114\, United States
CATEGORIES:Comedy,Comedy Night
ATTACH;FMTTYPE=image/jpeg:https://cristybcomedy.com/wp-content/uploads/2026/01/JoeRobFLY-scaled.jpg
ORGANIZER;CN="Cristy B Comedy":MAILTO:thecbcclub@gmail.com
END:VEVENT
END:VCALENDAR