BEGIN:VCALENDAR
VERSION:2.0
PRODID:-//Cristy B Comedy Club - ECPv6.15.20//NONSGML v1.0//EN
CALSCALE:GREGORIAN
METHOD:PUBLISH
X-WR-CALNAME:Cristy B Comedy Club
X-ORIGINAL-URL:https://cristybcomedy.com
X-WR-CALDESC:Events for Cristy B Comedy Club
REFRESH-INTERVAL;VALUE=DURATION:PT1H
X-Robots-Tag:noindex
X-PUBLISHED-TTL:PT1H
BEGIN:VTIMEZONE
TZID:UTC
BEGIN:STANDARD
TZOFFSETFROM:+0000
TZOFFSETTO:+0000
TZNAME:UTC
DTSTART:20250101T000000
END:STANDARD
END:VTIMEZONE
BEGIN:VEVENT
DTSTART;TZID=UTC:20260221T180000
DTEND;TZID=UTC:20260221T193000
DTSTAMP:20260424T190909
CREATED:20251223T173109Z
LAST-MODIFIED:20260126T191402Z
UID:10000477-1771696800-1771702200@cristybcomedy.com
SUMMARY:HELEN KEANEY live at Cristy B's
DESCRIPTION:Showtime 6:00pm \nExperience Daytona’s new Comedy hotspot for a night of fun filled with laughter! \nAbout Helen Keaney \nThis high energy mid-40’s NJ native hits the stage\, and doesn’t hold back!! Tommy has the ability to grab your attention early\, and keep you there until the very end!! \nSeeing Keaney is pretty easy. All you need is basic cable or a good antenna (they still make those\, right?). She’s a regular host on the Home Shopping Network\, so if you watch that channel\, she’s bound to pop up eventually. But that version of Keaney—sanitized and safe—is nothing like what you’ll see on comedy club stages. And even though she’s been performing for decades\, stand-up had been on the back burner for a while. \nFortunately\, that’s been changing\, as she’s now hitting Florida stages regularly and booking tour dates around the country (including a successful New York run earlier this year). Comedy is becoming a priority again\, and her shows are still an adult mix of prepared material and spontaneous audience interaction. It’s a far cry from what she’s selling on television\, and stand-up audiences are definitely buying.
URL:https://cristybcomedy.com/event/https-tickets-bestofdaytona-com-events-ricky-reyes-live-at-cristy-bs-2-21-2026/
LOCATION:Cristy B Comedy Club Daytona\, 242 S. Beach St. Suite 100\, Daytona Beach\, FL\, 32114\, United States
CATEGORIES:Comedy,Comedy Night
ATTACH;FMTTYPE=image/jpeg:https://cristybcomedy.com/wp-content/uploads/2025/12/KEANEYFY-scaled.jpg
ORGANIZER;CN="Cristy B Comedy":MAILTO:thecbcclub@gmail.com
END:VEVENT
BEGIN:VEVENT
DTSTART;TZID=UTC:20260221T203000
DTEND;TZID=UTC:20260221T220000
DTSTAMP:20260424T190909
CREATED:20251223T215712Z
LAST-MODIFIED:20260126T191435Z
UID:10000478-1771705800-1771711200@cristybcomedy.com
SUMMARY:HELEN KEANEY live at Cristy B's 8:30 pm
DESCRIPTION:Showtime 8:30 pm \nExperience Daytona’s new Comedy hotspot for a night of fun filled with laughter! \nAbout Helen Keaney \nThis high energy mid-40’s NJ native hits the stage\, and doesn’t hold back!! Tommy has the ability to grab your attention early\, and keep you there until the very end!! \nSeeing Keaney is pretty easy. All you need is basic cable or a good antenna (they still make those\, right?). She’s a regular host on the Home Shopping Network\, so if you watch that channel\, she’s bound to pop up eventually. But that version of Keaney—sanitized and safe—is nothing like what you’ll see on comedy club stages. And even though she’s been performing for decades\, stand-up had been on the back burner for a while. \nFortunately\, that’s been changing\, as she’s now hitting Florida stages regularly and booking tour dates around the country (including a successful New York run earlier this year). Comedy is becoming a priority again\, and her shows are still an adult mix of prepared material and spontaneous audience interaction. It’s a far cry from what she’s selling on television\, and stand-up audiences are definitely buying.
URL:https://cristybcomedy.com/event/https-tickets-bestofdaytona-com-events-helen-keaney-live-at-cristy-bs-2-21-2026-215511/
LOCATION:Cristy B Comedy Club Daytona\, 242 S. Beach St. Suite 100\, Daytona Beach\, FL\, 32114\, United States
CATEGORIES:Comedy,Comedy Night
ATTACH;FMTTYPE=image/jpeg:https://cristybcomedy.com/wp-content/uploads/2025/12/KEANEYFY-scaled.jpg
ORGANIZER;CN="Cristy B Comedy":MAILTO:thecbcclub@gmail.com
END:VEVENT
END:VCALENDAR