BEGIN:VCALENDAR
VERSION:2.0
PRODID:-//Cristy B Comedy Club - ECPv6.15.20//NONSGML v1.0//EN
CALSCALE:GREGORIAN
METHOD:PUBLISH
X-ORIGINAL-URL:https://cristybcomedy.com
X-WR-CALDESC:Events for Cristy B Comedy Club
REFRESH-INTERVAL;VALUE=DURATION:PT1H
X-Robots-Tag:noindex
X-PUBLISHED-TTL:PT1H
BEGIN:VTIMEZONE
TZID:UTC
BEGIN:STANDARD
TZOFFSETFROM:+0000
TZOFFSETTO:+0000
TZNAME:UTC
DTSTART:20250101T000000
END:STANDARD
END:VTIMEZONE
BEGIN:VEVENT
DTSTART;TZID=UTC:20260228T190000
DTEND;TZID=UTC:20260228T203000
DTSTAMP:20260424T191033
CREATED:20260220T193818Z
LAST-MODIFIED:20260222T211841Z
UID:10000536-1772305200-1772310600@cristybcomedy.com
SUMMARY:Cristy B. Ladies Comedy Showcase & Karaoke Night
DESCRIPTION:Showtime: 7:00 pm  \nLooking for live stand-up comedy in Daytona Beach? How about Karaoke! \nCristy B. comedian-she’s a force of nature. With more than 12 years of experience on stage\, Cristy has built a reputation for delivering bold\, hilarious and unapologetical real Comedy- that connects with audiences of all ages.  \nHer performances combine sharp wit\, relatable life experiences\, and fearless storytelling\, creating moments that are as authentic as they are laugh-out-loud funny. Whether she’s commanding an intimate room or lighting up a packed venue\, Cristy B. brings unmatched energy\, confidence\, and charisma to every show\, leaving audiences entertained\, engaged and always wanting more. \nShowcasing several other funny females- AND followed by Karaoke\, this night is going to be a ton of fun! \nBe the FIRST to experience Daytona’s new comedy hotspot for a Comedy Showcase featuring hilarious comedians for a night filled with laughter. \n  \nSeating & Policies \n• Seating is first come\, first seated. \n• If you want to sit with another party\, please enter the showroom together. \n• Tables seat 2\, 4\, or 6. Parties with fewer than 4 tickets may be sat with other guests at the same table. \n• Arrive early for preferred seating. \nTwo-Item Minimum \nEach ticket holder must purchase two items inside the showroom (any combination of food or drinks). \nFood & Drinks \nWe offer Beer\, Wine\, Champagne\, Seltzers\, THC-infused drinks\, Mocktails\, and Non-alcoholic options. Try a Wine Flight featuring our special monthly selections\, or be daring and order a Das Boot – our 33oz draft beer! We have chips\, popcorn and other snack. \n 
URL:https://cristybcomedy.com/event/https-tickets-bestofdaytona-com-events-cristy-b-ladies-comedy-showcase-karaoke-night-2-28-2026/
LOCATION:Cristy B Comedy Club Daytona\, 242 S. Beach St. Suite 100\, Daytona Beach\, FL\, 32114\, United States
CATEGORIES:Comedy,Comedy Night
ATTACH;FMTTYPE=image/jpeg:https://cristybcomedy.com/wp-content/uploads/2026/02/cristybFLY-scaled.jpg
ORGANIZER;CN="Cristy B Comedy":MAILTO:thecbcclub@gmail.com
END:VEVENT
END:VCALENDAR