BEGIN:VCALENDAR
VERSION:2.0
PRODID:-//Cristy B Comedy Club - ECPv6.15.20//NONSGML v1.0//EN
CALSCALE:GREGORIAN
METHOD:PUBLISH
X-ORIGINAL-URL:https://cristybcomedy.com
X-WR-CALDESC:Events for Cristy B Comedy Club
REFRESH-INTERVAL;VALUE=DURATION:PT1H
X-Robots-Tag:noindex
X-PUBLISHED-TTL:PT1H
BEGIN:VTIMEZONE
TZID:UTC
BEGIN:STANDARD
TZOFFSETFROM:+0000
TZOFFSETTO:+0000
TZNAME:UTC
DTSTART:20250101T000000
END:STANDARD
END:VTIMEZONE
BEGIN:VEVENT
DTSTART;TZID=UTC:20260307T180000
DTEND;TZID=UTC:20260307T193000
DTSTAMP:20260424T173514
CREATED:20260131T170327Z
LAST-MODIFIED:20260131T175733Z
UID:10000529-1772906400-1772911800@cristybcomedy.com
SUMMARY:"That's What She Said" An All Female Comedy Show
DESCRIPTION:Showtime 6:00pm \nWho says women aren’t funny?\nDon’t miss “That’s What She Said”\, an all-female comedy showcase featuring a lineup of hilarious ladies from all over\, guaranteed to keep you laughing all night long!”\nSpecial guests\nSarah Bailey\, Denise Carey\, Selena Ubias\nand headliner LAUREN DUFAULT.\nHosted by Michelle Keith\nBe the FIRST to experience Daytona’s new comedy hotspot for a Comedy Showcase featuring hilarious comedians for a night filled with laughter. \nGrab your ticket and come be part of our very first public event in the new club! \nSeating & Policies \n• Seating is first come\, first seated. \n• If you want to sit with another party\, please enter the showroom together. \n• Tables seat 2\, 4\, or 6. Parties with fewer than 4 tickets may be sat with other guests at the same table. \n• Arrive early for preferred seating. \nTwo-Item Minimum \nEach ticket holder must purchase two items inside the showroom (any combination of food or drinks). \nFood & Drinks \nWe offer Beer\, Wine\, Champagne\, Seltzers\, THC-infused drinks\, Mocktails\, and Non-alcoholic options. Try a Wine Flight featuring our special monthly selections\, or be daring and order a Das Boot – our 33oz draft beer! We have chips\, popcorn and other snacks.
URL:https://cristybcomedy.com/event/https-tickets-bestofdaytona-com-events-thats-what-she-said-an-all-female-comedy-show-3-7-2026/
LOCATION:Cristy B Comedy Club Daytona\, 242 S. Beach St. Suite 100\, Daytona Beach\, FL\, 32114\, United States
CATEGORIES:Comedy,Comedy Night
ATTACH;FMTTYPE=image/jpeg:https://cristybcomedy.com/wp-content/uploads/2026/01/LAdies37flyREV-scaled.jpg
ORGANIZER;CN="Cristy B Comedy":MAILTO:thecbcclub@gmail.com
END:VEVENT
END:VCALENDAR