BEGIN:VCALENDAR
VERSION:2.0
PRODID:-//Cristy B Comedy Club - ECPv6.15.20//NONSGML v1.0//EN
CALSCALE:GREGORIAN
METHOD:PUBLISH
X-ORIGINAL-URL:https://cristybcomedy.com
X-WR-CALDESC:Events for Cristy B Comedy Club
REFRESH-INTERVAL;VALUE=DURATION:PT1H
X-Robots-Tag:noindex
X-PUBLISHED-TTL:PT1H
BEGIN:VTIMEZONE
TZID:UTC
BEGIN:STANDARD
TZOFFSETFROM:+0000
TZOFFSETTO:+0000
TZNAME:UTC
DTSTART:20250101T000000
END:STANDARD
END:VTIMEZONE
BEGIN:VEVENT
DTSTART;TZID=UTC:20260424T190000
DTEND;TZID=UTC:20260424T203000
DTSTAMP:20260424T140452
CREATED:20260221T193132Z
LAST-MODIFIED:20260421T195443Z
UID:10000547-1777057200-1777062600@cristybcomedy.com
SUMMARY:Comedian Solo Jones at Cristy B's
DESCRIPTION:Showtime: 7:00 PM \nAbout Solo Jones \nNew York city headliner Solo Jones\, has opened for Jamie Foxx\, Steve Harvey\, and Tommy Davidson and appeared in the Denzel Washington film “Training Day.” He has been in stand-up comedy for over 25 years and has been on Nationwide comedy TV shows such as Comic View\, BET\, DEF Jam and Funny Not Famous. \nGet ready for an evening filled with jokes\, storytelling\, and maybe even some unexpected surprises. This in-person event promises to be a night to remember\, so grab your friends and get ready to laugh until your sides hurt! \nSeats are limited. Arrive early for preferred seating and a full comedy club experience.
URL:https://cristybcomedy.com/event/https-tickets-bestofdaytona-com-events-solo-joneslive-at-cristy-bs-800pm-4-24-2026/
LOCATION:Cristy B Comedy Club Daytona\, 242 S. Beach St. Suite 100\, Daytona Beach\, FL\, 32114\, United States
CATEGORIES:Comedy,Comedy Night
ATTACH;FMTTYPE=image/jpeg:https://cristybcomedy.com/wp-content/uploads/2026/02/SolojoneszFLY-1-1-scaled.jpg
ORGANIZER;CN="Cristy B Comedy":MAILTO:thecbcclub@gmail.com
END:VEVENT
BEGIN:VEVENT
DTSTART;TZID=UTC:20260425T190000
DTEND;TZID=UTC:20260425T203000
DTSTAMP:20260424T140452
CREATED:20260226T182308Z
LAST-MODIFIED:20260415T001411Z
UID:10000556-1777143600-1777149000@cristybcomedy.com
SUMMARY:Comedian Dr. Anna Lepely at Cristy B's
DESCRIPTION:Showtime: 7:00 PM \nSHE’S GOT A PhD. SHE’S GOT JOKES. SHE’S GOT MERCH. \nFrom college professor to touring comedian. From lab coats to drag shows. Dr. Anna Lepeley brings intelligence\, absurdity\, and attitude. \nABOUT DR. ANNA LEPELEY Dr. Anna Lepeley is a touring Cuban-American comedian\, author\, and the inventor\, host\, and producer of her traveling show “Comedians in Drag doing Comedy\,” held in more than 40 cities across the United States and Canada. \nShe’s opened for comedy legends including Steve-O\, Bob the Drag Queen\, and Emma Willmann. Before becoming a full-time comedian\, Anna was a nutrition science college professor with a PhD in Exercise Biochemistry and Nutrition research. \nShe loves translating technical information to benefit your life\, whether through science or comedy. And yes\, she’s got merch at the end of the show. \nSeats are limited. Arrive early for preferred seating and a full comedy club experience.
URL:https://cristybcomedy.com/event/https-tickets-bestofdaytona-com-events-dr-anna-lepeley-live-at-cristy-bs-4-25-2026/
LOCATION:Cristy B Comedy Club Daytona\, 242 S. Beach St. Suite 100\, Daytona Beach\, FL\, 32114\, United States
CATEGORIES:Comedy,Comedy Night
ATTACH;FMTTYPE=image/jpeg:https://cristybcomedy.com/wp-content/uploads/2026/02/analepeleyFLY-2-scaled.jpg
ORGANIZER;CN="Cristy B Comedy":MAILTO:thecbcclub@gmail.com
END:VEVENT
BEGIN:VEVENT
DTSTART;TZID=UTC:20260426T203000
DTEND;TZID=UTC:20260426T223000
DTSTAMP:20260424T140452
CREATED:20260331T132015Z
LAST-MODIFIED:20260331T132213Z
UID:10000591-1777235400-1777242600@cristybcomedy.com
SUMMARY:Open Mic Night- Palm Coast Lanes
DESCRIPTION:Showtime 8:30 pm \nComedy Open Mic Night \nCome join us for a night of laughter at Palm Coast Lanes! \nLaugh the night away with comedians from across the state! Whether they’re seasoned pros or fresh new faces\, you’re guaranteed a great time. \nNo cover charge! Get your FREE ticket \nWant to perform? Sign-ups start at 8:00 PM. Don’t miss the chance to showcase your talent! \nGet ready for an unforgettable night of fun and laughter!
URL:https://cristybcomedy.com/event/https-tickets-bestofdaytona-com-events-open-mic-night-pam-coast-lanes-4-26-2026/
LOCATION:Palm Coast Lanes\, 11 Old Kings N.\, Palm Coast\, FL\, 32137\, United States
CATEGORIES:Comedy,Comedy Night
ATTACH;FMTTYPE=image/jpeg:https://cristybcomedy.com/wp-content/uploads/2025/09/unnamed-36.jpg
ORGANIZER;CN="Cristy B Comedy":MAILTO:thecbcclub@gmail.com
END:VEVENT
BEGIN:VEVENT
DTSTART;TZID=UTC:20260429T190000
DTEND;TZID=UTC:20260429T203000
DTSTAMP:20260424T140452
CREATED:20260415T204606Z
LAST-MODIFIED:20260422T145841Z
UID:10000600-1777489200-1777494600@cristybcomedy.com
SUMMARY:Laugh-Awayz at Break-Awayz with Marcus Crespo
DESCRIPTION:Showtime 7pm \nCome join us for a night of laughter at Break-Awayz. \n\n\n\n\n\n\nAbout Marcus Crespo \nPro-wrestling enthusiast turned mall security officer turned comedian\, Marcus Crespo\, travels the country chronicling his adventures tackling life and occasionally people. Lovable and intense\, cuddly yet pugilistic. Marcus’s visceral point of view has audiences consumed with questions to which only he has the answer. Check him out\, and you’ll find out why many say\, “Crespo Is The Besto!” \nSpecial Guests: Patrick Degeest and Scotty Chi
URL:https://cristybcomedy.com/event/https-tickets-bestofdaytona-com-events-laugh-awayz-breakawayz-4-29-2026/
LOCATION:Break Awayz\, 819 N. Oceanshore Blvd.\, Flagler Beach\, 32136\, United States
CATEGORIES:Comedy,Comedy Night
ATTACH;FMTTYPE=image/jpeg:https://cristybcomedy.com/wp-content/uploads/2026/04/BREAKSREV-scaled.jpg
ORGANIZER;CN="Cristy B Comedy":MAILTO:thecbcclub@gmail.com
END:VEVENT
BEGIN:VEVENT
DTSTART;TZID=UTC:20260429T193000
DTEND;TZID=UTC:20260429T220000
DTSTAMP:20260424T140452
CREATED:20260420T005959Z
LAST-MODIFIED:20260420T005959Z
UID:10000603-1777491000-1777500000@cristybcomedy.com
SUMMARY:Wine Down Wednesday: Comedy Showcase & ALL Arts Open Mic
DESCRIPTION:Showtime 7:30 pm \nWine Down Wednesday: Comedy Showcase & Open Mic \nSip\, laugh\, and maybe even take the stage… \nJoin us for a full night of entertainment at Cristy B’s Comedy Club – Daytona Beach\, where the evening kicks off with a relaxed Wine Tasting from 5:00–7:00 PM—the perfect way to unwind before the laughs begin. \nAt 7:30 PM\, enjoy our Comedy Showcase\, featuring some of our favorite performers bringing big energy and even bigger laughs. \nThen the stage opens up… \n🎤 Open Mic follows the show – OPEN TO ALL ACTS \nComedians\, musicians\, storytellers\, poets—if you’ve got talent\, we’ve got the mic. \n5-minute sets • Sign-ups available at the club \nWhether you’re here to sip\, watch\, or perform\, this is your midweek escape. \n✨ Reserve ahead online or pay at the door \nSeating is limited—don’t wait! \n 
URL:https://cristybcomedy.com/event/https-tickets-bestofdaytona-com-events-wine-down-wednesday-comedy-showcase-all-arts-open-mic-4-29-2026/
LOCATION:Cristy B Comedy Club Daytona\, 242 S. Beach St. Suite 100\, Daytona Beach\, FL\, 32114\, United States
CATEGORIES:Comedy,Comedy Night
ATTACH;FMTTYPE=image/png:https://cristybcomedy.com/wp-content/uploads/2026/04/wedwine.png
ORGANIZER;CN="Cristy B Comedy":MAILTO:thecbcclub@gmail.com
END:VEVENT
END:VCALENDAR