BEGIN:VCALENDAR
VERSION:2.0
PRODID:-//Cristy B Comedy Club - ECPv6.15.20//NONSGML v1.0//EN
CALSCALE:GREGORIAN
METHOD:PUBLISH
X-WR-CALNAME:Cristy B Comedy Club
X-ORIGINAL-URL:https://cristybcomedy.com
X-WR-CALDESC:Events for Cristy B Comedy Club
REFRESH-INTERVAL;VALUE=DURATION:PT1H
X-Robots-Tag:noindex
X-PUBLISHED-TTL:PT1H
BEGIN:VTIMEZONE
TZID:UTC
BEGIN:STANDARD
TZOFFSETFROM:+0000
TZOFFSETTO:+0000
TZNAME:UTC
DTSTART:20250101T000000
END:STANDARD
END:VTIMEZONE
BEGIN:VEVENT
DTSTART;TZID=UTC:20260607T190000
DTEND;TZID=UTC:20260607T210000
DTSTAMP:20260424T223702
CREATED:20260415T181819Z
LAST-MODIFIED:20260415T185631Z
UID:10000599-1780858800-1780866000@cristybcomedy.com
SUMMARY:Shades of Hunks live at Cristy B's
DESCRIPTION:Showtime: 7:00 PM\n\n\nMust be 21+ Doors open 6 pm\nGet ready for an electrifying evening that promises to be the highlight of your year! The Perfect Girls’ Night Out® with HUNKS The Show® is here to bring your squad an unforgettable experience filled with laughter\, energy\, and the best entertainment in town. Whether it’s a special occasion or just a well-deserved break with your friends\, our night is designed to dazzle and delight.\nFrom the moment you step in\, the vibe is infectious\, with upbeat music and a lively crowd ready to have a good time. Prepare to be swept off your feet by our HUNKS\, whose dynamic performances in HUNKS Live and irresistible charm will keep you entertained all night long. The stage is set for a night of non-stop fun and high-energy antics that will have everyone talking.\nSo don’t wait—join us for a night where memories are made and the fun never ends. Secure your tickets now for an evening that’s more than just a show—it’s a celebration of friendship and freedom in an atmosphere brimming with excitement and joy. This is the ultimate girls’ night out with HUNKS The Show® that you definitely don’t want to miss!\nGrab Your Tickets Today!\n#ShadesOfHUNKS #CristyBComedyClub #DaytonaBeachFL #DaytonaBeachEvents #FloridaNightlife #DaytonaNightlife #LadiesNightOut #GirlsNightOut #MaleRevue #GetYourTickets\n***Tickets are non-refundable. In the event of postponement or rescheduling\, all tickets will be valid for the new date.
URL:https://cristybcomedy.com/event/https-tickets-bestofdaytona-com-events-shades-of-hunks-male-review-at-cristy-bs-6-7-2026/
LOCATION:Cristy B Comedy Club Daytona\, 242 S. Beach St. Suite 100\, Daytona Beach\, FL\, 32114\, United States
CATEGORIES:Comedy,Comedy Night
ATTACH;FMTTYPE=image/png:https://cristybcomedy.com/wp-content/uploads/2026/04/hunksEV.png
ORGANIZER;CN="Cristy B Comedy":MAILTO:thecbcclub@gmail.com
END:VEVENT
BEGIN:VEVENT
DTSTART;TZID=UTC:20260612T200000
DTEND;TZID=UTC:20260612T213000
DTSTAMP:20260424T223702
CREATED:20260309T220647Z
LAST-MODIFIED:20260309T220647Z
UID:10000578-1781294400-1781299800@cristybcomedy.com
SUMMARY:Comedian Bear Webb live at Cristy B's 8:00 pm
DESCRIPTION:Showtime: 8:00 PM \nAbout Bear Webb \nIf you a looking for a mixture of Ron White and Sam Kinison then look no further than Bear. \nFlorida’s Funniest Female brings laughter to the stage like no other. Bear’s comedy ranges from her lifestyle to being a public school teacher for over 30 years. There is nothing off limits!!  \nOpening for such greats as Louie Anderson\, Rosie O’Donnell\, Bobcat Goldthwait\, Bill Bellamy\, Tommy Davidson\, Judy Gold\, Suzanne Westenhoefer\, Judy Tenuta\, Tammy Pescatelli and Lynne Kolplitz: Bear brings the funny to all. Come on OUT… Bear did!!!   \nHold onto your seats\, because this talented lady’s background in teaching means you’ll be learning and laughing all night long! Don’t miss out on the chance to experience the magic of Bear! \nSeats are limited. Arrive early for preferred seating and a full comedy club experience.
URL:https://cristybcomedy.com/event/https-tickets-bestofdaytona-com-events-bear-webb-with-angela-nacca-live-at-cristy-bs-800pm-6-12-2026/
LOCATION:Cristy B Comedy Club Daytona\, 242 S. Beach St. Suite 100\, Daytona Beach\, FL\, 32114\, United States
CATEGORIES:Comedy,Comedy Night
ATTACH;FMTTYPE=image/jpeg:https://cristybcomedy.com/wp-content/uploads/2026/03/bearFLY-scaled.jpg
ORGANIZER;CN="Cristy B Comedy":MAILTO:thecbcclub@gmail.com
END:VEVENT
BEGIN:VEVENT
DTSTART;TZID=UTC:20260620T193000
DTEND;TZID=UTC:20260620T210000
DTSTAMP:20260424T223702
CREATED:20260420T163210Z
LAST-MODIFIED:20260422T212150Z
UID:10000604-1781983800-1781989200@cristybcomedy.com
SUMMARY:Quinn Dale live in Daytona Beach at Cristy B's *Special Event
DESCRIPTION:SHOWTIME 7:30 pm \n  \nAbout Quinn Dale \nWith over 700\,000 followers on TikTok\, Quinn’s racially charged and politically incorrect material never disappoint. He uses our differences to bring us together. Fresh off a development deal with 20thCentury Fox\, Quinn has appeared on The Tonight Show\, Showtime\, Comedy Central\, Lopez Tonight and Carson Daly. He has worked with such names as Robin Williams\, Drew Carey\, Tim Allen\, Dane Cook\, Dana Carvey\, Norm McDonald\, Brad Garrett\, Jon Lovitz\, Bill Maher\, Frank Caliendo\, David Alan Grier\, John Witherspoon\, Tommy Chong\, John Pinette and Harland Williams. \nOriginally from Minnesota\, Quinn has lived in Colorado and Arizona before settling in Los Angeles to pursue a career in comedy. Now married to a Mexican-American girl from east L.A.\, Quinn is never short of material. His comedy appeals to all age groups and ethnicities and he loves to talk about them all. However\, audiences often come back just for his improvisational crowd work where he can be the most spontaneous. \n\n\n*Seats are limited. Arrive early for preferred seating and a full comedy club experience \n\n\n\n\n*SPECIAL EVENT: Promotional tickets\, prize tickets\, and Birthday Club tickets or Club Memberships are not valid for this event.
URL:https://cristybcomedy.com/event/https-events-massivetix-com-e-quinn-dale-live-in-daytona/
LOCATION:Cristy B Comedy Club Daytona\, 242 S. Beach St. Suite 100\, Daytona Beach\, FL\, 32114\, United States
CATEGORIES:Comedy,Comedy Night
ATTACH;FMTTYPE=image/png:https://cristybcomedy.com/wp-content/uploads/2026/04/dalequinnREV.png
ORGANIZER;CN="Cristy B Comedy":MAILTO:thecbcclub@gmail.com
END:VEVENT
BEGIN:VEVENT
DTSTART;TZID=UTC:20260730T190000
DTEND;TZID=UTC:20260730T203000
DTSTAMP:20260424T223702
CREATED:20260327T200333Z
LAST-MODIFIED:20260327T200333Z
UID:10000586-1785438000-1785443400@cristybcomedy.com
SUMMARY:Francisco Ramos\, KelvinPérez & Hombre Promedio - Comedia en Español
DESCRIPTION:Showtime 7:00 pm \nExperience Daytona’s new Comedy hotspot for a night of fun filled with laughter! \nGet ready for an unparalleled night of comedy where the sharp wit of Venezuelans Francisco Ramos and Hombre Promedio meets the vibrant charisma of Puerto Rican Kel Perez! \nThese three unique styles blend the best of Caribbean humor to bring you an explosive show packed with anecdotes about our lives and the challenges of the Latino experience in the United States. \nIt’s a night of hilarious observations and guaranteed laughs where we’ll celebrate\, among friends\, what it truly means to be Latino in the North; don’t miss this clash of cultures where the only limit is how long you can go without laughing! \n 
URL:https://cristybcomedy.com/event/https-tickets-bestofdaytona-com-events-francisco-ramoskelvinprezhombre-promedio-comedia-en-espaol-cristy-bs-7-30-2026/
LOCATION:Cristy B Comedy Club Daytona\, 242 S. Beach St. Suite 100\, Daytona Beach\, FL\, 32114\, United States
CATEGORIES:Comedy,Comedy Night
ATTACH;FMTTYPE=image/png:https://cristybcomedy.com/wp-content/uploads/2026/03/franciscoramosFLY.png
ORGANIZER;CN="Cristy B Comedy":MAILTO:thecbcclub@gmail.com
END:VEVENT
BEGIN:VEVENT
DTSTART;TZID=UTC:20260812T190000
DTEND;TZID=UTC:20260812T203000
DTSTAMP:20260424T223702
CREATED:20260422T171218Z
LAST-MODIFIED:20260422T213651Z
UID:10000605-1786561200-1786566600@cristybcomedy.com
SUMMARY:*Special Event Nate Meeker live at Cristy
DESCRIPTION:Showtime: 7:00 PM \nAbout Nate Meeker \nNate Meeker is a comedian and actor originally from Columbus\, Ohio now based in New York and Los Angeles. Know for his sketch Comedy- and stand-up videos\, he has gained over 940\,000 followers on social media and his content has amassed more than 300 million views between Tik Tok\, Instagram\, and YouTube. When on the road\, Nate opens for Tim Dillon and has performed at renowned venues across the country including The Comedy Mothership\, The Chicago Theater\, The Hollywood Improv and more. \n*SPECIAL EVENT: Promotional tickets\, prize tickets\, and Birthday Club tickets or Club Memberships are not valid for this event. \nSeats are limited. Arrive early for preferred seating and a full comedy club experience.
URL:https://cristybcomedy.com/event/https-tickets-bestofdaytona-com-events-nate-meeker-live-at-cristy-bs-special-event-8-12-2026/
LOCATION:Cristy B Comedy Club Daytona\, 242 S. Beach St. Suite 100\, Daytona Beach\, FL\, 32114\, United States
CATEGORIES:Comedy,Comedy Night
ATTACH;FMTTYPE=image/png:https://cristybcomedy.com/wp-content/uploads/2026/04/natemeekerFLY.png
ORGANIZER;CN="Cristy B Comedy":MAILTO:thecbcclub@gmail.com
END:VEVENT
BEGIN:VEVENT
DTSTART;TZID=UTC:20260813T190000
DTEND;TZID=UTC:20260813T203000
DTSTAMP:20260424T223702
CREATED:20260422T171658Z
LAST-MODIFIED:20260422T171658Z
UID:10000606-1786647600-1786653000@cristybcomedy.com
SUMMARY:*Special Event Nate Meeker live at Cristy
DESCRIPTION:Showtime: 7:00 PM \nAbout Nate Meeker \nNate Meeker is a comedian and actor originally from Columbus\, Ohio now based in New York and Los Angeles. Know for his sketch Comedy- and stand-up videos\, he has gained over 940\,000 followers on social media and his content has amassed more than 300 million views between Tik Tok\, Instagram\, and YouTube. When on the road\, Nate opens for Tim Dillon and has performed at renowned venues across the country including The Comedy Mothership\, The Chicago Theater\, The Hollywood Improv and more. \n*SPECIAL EVENT: Promotional tickets\, prize tickets\, and Birthday Club tickets or Club Memberships are not valid for this event. \nSeats are limited. Arrive early for preferred seating and a full comedy club experience.
URL:https://cristybcomedy.com/event/https-tickets-bestofdaytona-com-events-special-event-nate-meeker-live-at-cristy-bs-8-12-2026/
LOCATION:Cristy B Comedy Club Daytona\, 242 S. Beach St. Suite 100\, Daytona Beach\, FL\, 32114\, United States
CATEGORIES:Comedy,Comedy Night
ATTACH;FMTTYPE=image/png:https://cristybcomedy.com/wp-content/uploads/2026/04/natemeekerFLY.png
ORGANIZER;CN="Cristy B Comedy":MAILTO:thecbcclub@gmail.com
END:VEVENT
END:VCALENDAR