BEGIN:VCALENDAR
VERSION:2.0
PRODID:-//Cristy B Comedy Club - ECPv6.15.20//NONSGML v1.0//EN
CALSCALE:GREGORIAN
METHOD:PUBLISH
X-ORIGINAL-URL:https://cristybcomedy.com
X-WR-CALDESC:Events for Cristy B Comedy Club
REFRESH-INTERVAL;VALUE=DURATION:PT1H
X-Robots-Tag:noindex
X-PUBLISHED-TTL:PT1H
BEGIN:VTIMEZONE
TZID:UTC
BEGIN:STANDARD
TZOFFSETFROM:+0000
TZOFFSETTO:+0000
TZNAME:UTC
DTSTART:20250101T000000
END:STANDARD
END:VTIMEZONE
BEGIN:VEVENT
DTSTART;TZID=UTC:20260813T190000
DTEND;TZID=UTC:20260813T203000
DTSTAMP:20260424T153105
CREATED:20260422T171658Z
LAST-MODIFIED:20260422T171658Z
UID:10000606-1786647600-1786653000@cristybcomedy.com
SUMMARY:*Special Event Nate Meeker live at Cristy
DESCRIPTION:Showtime: 7:00 PM \nAbout Nate Meeker \nNate Meeker is a comedian and actor originally from Columbus\, Ohio now based in New York and Los Angeles. Know for his sketch Comedy- and stand-up videos\, he has gained over 940\,000 followers on social media and his content has amassed more than 300 million views between Tik Tok\, Instagram\, and YouTube. When on the road\, Nate opens for Tim Dillon and has performed at renowned venues across the country including The Comedy Mothership\, The Chicago Theater\, The Hollywood Improv and more. \n*SPECIAL EVENT: Promotional tickets\, prize tickets\, and Birthday Club tickets or Club Memberships are not valid for this event. \nSeats are limited. Arrive early for preferred seating and a full comedy club experience.
URL:https://cristybcomedy.com/event/https-tickets-bestofdaytona-com-events-special-event-nate-meeker-live-at-cristy-bs-8-12-2026/
LOCATION:Cristy B Comedy Club Daytona\, 242 S. Beach St. Suite 100\, Daytona Beach\, FL\, 32114\, United States
CATEGORIES:Comedy,Comedy Night
ATTACH;FMTTYPE=image/png:https://cristybcomedy.com/wp-content/uploads/2026/04/natemeekerFLY.png
ORGANIZER;CN="Cristy B Comedy":MAILTO:thecbcclub@gmail.com
END:VEVENT
END:VCALENDAR